BEGIN:VCALENDAR
VERSION:2.0
PRODID:-//TYPO3/NONSGML News system (news)//EN
BEGIN:VEVENT
UID:news-7004
DTSTAMP:20260420T091458Z
DTSTART:20260503T123000Z
DTEND:20260504T000000Z
CATEGORIES:Visite
SUMMARY:Dimanche découverte : L&#039;ancien hôpital
DESCRIPTION:Le service animation du Patrimoine vous dévoile l&#039;histoire et tous les secrets d&#039;un site incontournable de Chalon.\n
END:VEVENT
END:VCALENDAR
