BEGIN:VCALENDAR
VERSION:2.0
PRODID:-//TYPO3/NONSGML News system (news)//EN
BEGIN:VEVENT
UID:news-7020
DTSTAMP:20260409T182713Z
DTSTART:20260426T150000Z
DTEND:20260427T000000Z
CATEGORIES:Visite
SUMMARY:Dimanche découverte : le groupe cathédral
DESCRIPTION:Le service animation du Patrimoine vous dévoile l&#039;histoire et tous les secrets d&#039;un site incontournable de Chalon.\n
END:VEVENT
END:VCALENDAR
