BEGIN:VCALENDAR
VERSION:2.0
PRODID:-//TYPO3/NONSGML News system (news)//EN
BEGIN:VEVENT
UID:news-7211
DTSTAMP:20260420T091257Z
DTSTART:20260508T000000Z
DTEND:20260511T000000Z
CATEGORIES:Événement
SUMMARY:Festives gourmandes
DESCRIPTION:Foire aux vins et gastronomie
END:VEVENT
END:VCALENDAR
