BEGIN:VCALENDAR
VERSION:2.0
PRODID:-//TYPO3/NONSGML News system (news)//EN
BEGIN:VEVENT
UID:news-7228
DTSTAMP:20260414T150249Z
DTSTART:20260425T140000Z
DTEND:20260425T180000Z
CATEGORIES:Événement
SUMMARY:Fête vos jeux
DESCRIPTION:Une journée dédiée au jeu dans toutes ses formes !
END:VEVENT
END:VCALENDAR
