BEGIN:VCALENDAR
VERSION:2.0
PRODID:-//TYPO3/NONSGML News system (news)//EN
BEGIN:VEVENT
UID:news-7098
DTSTAMP:20260420T091253Z
DTSTART:20260506T190000Z
DTEND:20260507T000000Z
CATEGORIES:Concert
SUMMARY:From New York to Los Angeles
DESCRIPTION:Au croisement de deux courants majeurs, cette soirée invite à une odyssée immersive où se mêlent communion sonore et psychédélisme.
END:VEVENT
END:VCALENDAR
