BEGIN:VCALENDAR
VERSION:2.0
PRODID:-//TYPO3/NONSGML News system (news)//EN
BEGIN:VEVENT
UID:news-7225
DTSTAMP:20260420T091629Z
DTSTART:20260507T000000Z
DTEND:20260508T000000Z

SUMMARY:Journée des fiscalistes
DESCRIPTION:Besoin d&#039;aide pour la déclaration de vos revenus 2025 ?
END:VEVENT
END:VCALENDAR
