BEGIN:VCALENDAR
VERSION:2.0
PRODID:-//TYPO3/NONSGML News system (news)//EN
BEGIN:VEVENT
UID:news-7230
DTSTAMP:20260414T154023Z
DTSTART:20260424T190000Z
DTEND:20260425T000000Z
CATEGORIES:Commémoration
SUMMARY:Journée nationale de commémoration du génocide arménien
DESCRIPTION:Les chalonnais sont conviés à la cérémonie commémorative nationale de la Journée du Génocide arménien.
END:VEVENT
END:VCALENDAR
