BEGIN:VCALENDAR
VERSION:2.0
PRODID:-//TYPO3/NONSGML News system (news)//EN
BEGIN:VEVENT
UID:news-7231
DTSTAMP:20260414T154314Z
DTSTART:20260426T100000Z
DTEND:20260427T000000Z
CATEGORIES:Commémoration
SUMMARY:Journée nationale du Souvenir des Victimes et des Héros de la Déportation
DESCRIPTION:À l’occasion de la Journée nationale du Souvenir des Victimes et des Héros de la Déportation, la Municipalité organise une cérémonie.
END:VEVENT
END:VCALENDAR
