BEGIN:VCALENDAR
VERSION:2.0
PRODID:-//TYPO3/NONSGML News system (news)//EN
BEGIN:VEVENT
UID:news-7097
DTSTAMP:20260420T091247Z
DTSTART:20260430T190000Z
DTEND:20260501T000000Z
CATEGORIES:Concert
SUMMARY:L&#039;autobiobus
DESCRIPTION:Pour cette création, l’ensemble Supernova invite Louise Hakim et Agnès Desarthe, complices de scène depuis plusieurs années. La danseuse et l’écrivaine ont développé un univers qui inspire la première composition collective faite par l’ensemble lui-même.
END:VEVENT
END:VCALENDAR
