BEGIN:VCALENDAR
VERSION:2.0
PRODID:-//TYPO3/NONSGML News system (news)//EN
BEGIN:VEVENT
UID:news-7222
DTSTAMP:20260420T141729Z
DTSTART:20260425T090000Z
DTEND:20260425T180000Z
CATEGORIES:Événement
SUMMARY:Place aux Fleurs
DESCRIPTION:Une jardinerie à ciel ouvert !
END:VEVENT
END:VCALENDAR
