BEGIN:VCALENDAR
VERSION:2.0
PRODID:-//TYPO3/NONSGML News system (news)//EN
BEGIN:VEVENT
UID:news-7224
DTSTAMP:20260410T175124Z
DTSTART:20260430T090000Z
DTEND:20260430T170000Z

SUMMARY:Salon de l&#039;emploi du Grand Chalon
DESCRIPTION:Le Grand Chalon et la Mission locale du Chalonnais co-organisent  la 9e édition du Salon de l’emploi.
END:VEVENT
END:VCALENDAR
