BEGIN:VCALENDAR
VERSION:2.0
PRODID:-//TYPO3/NONSGML News system (news)//EN
BEGIN:VEVENT
UID:news-7227
DTSTAMP:20260414T144435Z
DTSTART:20260425T100000Z
DTEND:20260426T180000Z
CATEGORIES:Événement
SUMMARY:Salon du livre ancien
DESCRIPTION:Dans un lieu magnifique du patrimoine chalonnais, le 3e salon du livre ancien proposera aux collectionneurs comme au grand public des ouvrages pour tous les goûts et tous les prix.
END:VEVENT
END:VCALENDAR
