BEGIN:VCALENDAR
VERSION:2.0
PRODID:-//TYPO3/NONSGML News system (news)//EN
BEGIN:VEVENT
UID:news-7202
DTSTAMP:20260420T091256Z
DTSTART:20260507T203000Z
DTEND:20260508T000000Z
CATEGORIES:Spectacle
SUMMARY:Sortie de résidence : Soirée danses et DJ set
DESCRIPTION:Le bruit de la rue - Chalon dans la Rue
END:VEVENT
END:VCALENDAR
