BEGIN:VCALENDAR
VERSION:2.0
PRODID:-//TYPO3/NONSGML News system (news)//EN
BEGIN:VEVENT
UID:news-7095
DTSTAMP:20260420T091300Z
DTSTART:20260510T110000Z
DTEND:20260511T000000Z
CATEGORIES:Concert
SUMMARY:Sourdure
DESCRIPTION:Artiste ancré à Thiers, Ernest Bergez alias Sourdure, chemine depuis une dizaine d’années aux confins de mondes sonores écartés, liant un esprit d’expérimentation à une approche personnelle et bricolée de l’objet musical traditionnel. 
END:VEVENT
END:VCALENDAR
