BEGIN:VCALENDAR
VERSION:2.0
PRODID:-//TYPO3/NONSGML News system (news)//EN
BEGIN:VEVENT
UID:news-7237
DTSTAMP:20260424T110052Z
DTSTART:20260506T200000Z
DTEND:20260507T000000Z
CATEGORIES:Spectacle
SUMMARY:Spectacle humanitaire
DESCRIPTION:organisé par le lycée Pontus de Tyard
END:VEVENT
END:VCALENDAR
