BEGIN:VCALENDAR
VERSION:2.0
PRODID:-//TYPO3/NONSGML News system (news)//EN
BEGIN:VEVENT
UID:news-7241
DTSTAMP:20260424T161330Z
DTSTART:20260502T100000Z
DTEND:20260502T180000Z
CATEGORIES:Sport
SUMMARY:Urban tennis tour
DESCRIPTION:Après plus de 300 étapes et près de 135 000 personnes initiées à l’Urban tennis depuis 2022, l’Urban tennis tour revient pour une 5ᵉ édition encore plus grande. 
END:VEVENT
END:VCALENDAR
