BEGIN:VCALENDAR
VERSION:2.0
PRODID:-//TYPO3/NONSGML News system (news)//EN
BEGIN:VEVENT
UID:news-7169
DTSTAMP:20260420T091252Z
DTSTART:20260503T153000Z
DTEND:20260504T000000Z
CATEGORIES:Visite
SUMMARY:Visite commentée : premier déclic
DESCRIPTION:Une visite entre principes fondamentaux, inventions pionnières, usages de la photographie à travers les collections permanentes du musée.
END:VEVENT
END:VCALENDAR
